BEGIN:VCALENDAR
VERSION:2.0
PRODID:-//Opernhaus//NONSGML//EN
METHOD:PUBLISH
CLASS:PUBLIC
BEGIN:VEVENT
UID:90206769e84518ec982
DTSTART:20260627T160000Z
DTEND:20260627T173000Z
DTSTAMP:20260627T160000Z
CREATED:20260422T034840Z
LAST-MODIFIED:20260422T034840Z
SUMMARY:Opernhaus für alle
LOCATION:Opernhaus Zürich
URL:https://www.opernhaus.ch/en/spielplan/calendar/opernhaus-fuer-alle/
SEQUENCE:0
STATUS:CONFIRMED
TRANSP:OPAQUE
END:VEVENT
END:VCALENDAR