BEGIN:VCALENDAR
VERSION:2.0
PRODID:-//Opernhaus//NONSGML//EN
METHOD:PUBLISH
CLASS:PUBLIC
BEGIN:VEVENT
UID:17393169e5754a8abc5
DTSTART:20260704T120000Z
DTEND:20260704T133500Z
DTSTAMP:20260704T120000Z
CREATED:20260420T003730Z
LAST-MODIFIED:20260420T003730Z
SUMMARY:Nachtträume
DESCRIPTION:Ballet by Marcos Morau
LOCATION:Opernhaus Zürich
URL:https://www.opernhaus.ch/en/spielplan/calendar/nachttraeume/
SEQUENCE:0
STATUS:CONFIRMED
TRANSP:OPAQUE
END:VEVENT
END:VCALENDAR