BEGIN:VCALENDAR
VERSION:2.0
PRODID:-//Opernhaus//NONSGML//EN
METHOD:PUBLISH
CLASS:PUBLIC
BEGIN:VEVENT
UID:2257969e6003bb32b0
DTSTART:20260623T170000Z
DTEND:20260623T193000Z
DTSTAMP:20260623T170000Z
CREATED:20260420T103019Z
LAST-MODIFIED:20260420T103019Z
SUMMARY:Romeo und Julia
DESCRIPTION:Ballet by Cathy Marston
LOCATION:Opernhaus Zürich
URL:https://www.opernhaus.ch/en/spielplan/calendar/romeo-und-julia-1/
SEQUENCE:0
STATUS:CONFIRMED
TRANSP:OPAQUE
END:VEVENT
END:VCALENDAR