BEGIN:VCALENDAR
VERSION:2.0
PRODID:-//Opernhaus//NONSGML//EN
METHOD:PUBLISH
CLASS:PUBLIC
BEGIN:VEVENT
UID:188022269e7b6960e9f0
DTSTART:20261016T170000Z
DTEND:20261016T200000Z
DTSTAMP:20261016T170000Z
CREATED:20260421T174038Z
LAST-MODIFIED:20260421T174038Z
SUMMARY:Ein Sommernachtstraum
DESCRIPTION:Ballet by Cathy Marston
LOCATION:Opernhaus Zürich
URL:https://www.opernhaus.ch/en/spielplan/calendar/ein-sommernachtstraum/
SEQUENCE:0
STATUS:CONFIRMED
TRANSP:OPAQUE
END:VEVENT
END:VCALENDAR