BEGIN:VCALENDAR
VERSION:2.0
PRODID:-//Opernhaus//NONSGML//EN
METHOD:PUBLISH
CLASS:PUBLIC
BEGIN:VEVENT
UID:133789269e7b5b03cea5
DTSTART:20260929T170000Z
DTEND:20260929T200000Z
DTSTAMP:20260929T170000Z
CREATED:20260421T173648Z
LAST-MODIFIED:20260421T173648Z
SUMMARY:Die Fledermaus
DESCRIPTION:Operetta by Johann Strauss
LOCATION:Opernhaus Zürich
URL:https://www.opernhaus.ch/en/spielplan/calendar/die-fledermaus-1/
SEQUENCE:0
STATUS:CONFIRMED
TRANSP:OPAQUE
END:VEVENT
END:VCALENDAR