BEGIN:VCALENDAR
VERSION:2.0
PRODID:-//Opernhaus//NONSGML//EN
METHOD:PUBLISH
CLASS:PUBLIC
BEGIN:VEVENT
UID:213099669e7b6e34ebcc
DTSTART:20261008T173000Z
DTEND:20261008T203000Z
DTSTAMP:20261008T173000Z
CREATED:20260421T174155Z
LAST-MODIFIED:20260421T174155Z
SUMMARY:Die Fledermaus
DESCRIPTION:Operetta by Johann Strauss
LOCATION:Opernhaus Zürich
URL:https://www.opernhaus.ch/en/spielplan/calendar/die-fledermaus-1/
SEQUENCE:0
STATUS:CONFIRMED
TRANSP:OPAQUE
END:VEVENT
END:VCALENDAR