BEGIN:VCALENDAR
VERSION:2.0
PRODID:-//Opernhaus//NONSGML//EN
METHOD:PUBLISH
CLASS:PUBLIC
BEGIN:VEVENT
UID:213978969e7b56677912
DTSTART:20261003T183000Z
DTEND:20261003T200000Z
DTSTAMP:20261003T183000Z
CREATED:20260421T173534Z
LAST-MODIFIED:20260421T173534Z
SUMMARY:Zürich Film Festival Award Night
LOCATION:Opernhaus Zürich
URL:https://www.opernhaus.ch/en/spielplan/calendar/zuerich-film-festival-award-night/
SEQUENCE:0
STATUS:CONFIRMED
TRANSP:OPAQUE
END:VEVENT
END:VCALENDAR