BEGIN:VCALENDAR
VERSION:2.0
PRODID:-//Opernhaus//NONSGML//EN
METHOD:PUBLISH
CLASS:PUBLIC
BEGIN:VEVENT
UID:103796269e7b63a512cf
DTSTART:20261002T173000Z
DTEND:20261002T193000Z
DTSTAMP:20261002T173000Z
CREATED:20260421T173906Z
LAST-MODIFIED:20260421T173906Z
SUMMARY:Benefiz «amiamusica»
DESCRIPTION:Orchester der Oper Zürich\, Lina González-Granados\, Anne-Sophie Mutter
LOCATION:Opernhaus Zürich
URL:https://www.opernhaus.ch/en/spielplan/calendar/benefiz-amiamusica/
SEQUENCE:0
STATUS:CONFIRMED
TRANSP:OPAQUE
END:VEVENT
END:VCALENDAR