BEGIN:VCALENDAR
VERSION:2.0
PRODID:-//Opernhaus//NONSGML//EN
METHOD:PUBLISH
CLASS:PUBLIC
BEGIN:VEVENT
UID:164110469ecd2a3259be
DTSTART:20260506T170000Z
DTEND:20260506T190000Z
DTSTAMP:20260506T170000Z
CREATED:20260425T144139Z
LAST-MODIFIED:20260425T144139Z
SUMMARY:Gianni Schicchi
DESCRIPTION:Oper von Giacomo Puccini
LOCATION:Theater Winterthur
URL:https://www.opernhaus.ch/spielplan/kalendarium/gianni-schicchi/
SEQUENCE:0
STATUS:CONFIRMED
TRANSP:OPAQUE
END:VEVENT
END:VCALENDAR