BEGIN:VCALENDAR
VERSION:2.0
PRODID:-//Opernhaus//NONSGML//EN
METHOD:PUBLISH
CLASS:PUBLIC
BEGIN:VEVENT
UID:173157769e74e6589b41
DTSTART:20260427T170000Z
DTEND:20260427T183000Z
DTSTAMP:20260427T170000Z
CREATED:20260421T101605Z
LAST-MODIFIED:20260421T101605Z
SUMMARY:Liederabend für «Zukunft Oper»
LOCATION:Opernhaus Zürich
URL:https://www.opernhaus.ch/spielplan/kalendarium/liederabend-michael-volle-1/
SEQUENCE:0
STATUS:CONFIRMED
TRANSP:OPAQUE
END:VEVENT
END:VCALENDAR