BEGIN:VCALENDAR
VERSION:2.0
PRODID:-//Opernhaus//NONSGML//EN
METHOD:PUBLISH
CLASS:PUBLIC
BEGIN:VEVENT
UID:110468769e7374dc2dab
DTSTART:20261102T180000Z
DTEND:20261102T200000Z
DTSTAMP:20261102T180000Z
CREATED:20260421T083733Z
LAST-MODIFIED:20260421T083733Z
SUMMARY:3. Kammerkonzert
LOCATION:Opernhaus Zürich
URL:https://www.opernhaus.ch/spielplan/kalendarium/kammerkonzert-3/
SEQUENCE:0
STATUS:CONFIRMED
TRANSP:OPAQUE
END:VEVENT
END:VCALENDAR