BEGIN:VCALENDAR
VERSION:2.0
PRODID:-//Opernhaus//NONSGML//EN
METHOD:PUBLISH
CLASS:PUBLIC
BEGIN:VEVENT
UID:212882869e735f81e4a2
DTSTART:20261104T130000Z
DTEND:20261104T150000Z
DTSTAMP:20261104T130000Z
CREATED:20260421T083152Z
LAST-MODIFIED:20260421T083152Z
SUMMARY:Klanglabor
DESCRIPTION:Für Kinder ab 8 Jahren
LOCATION:Opernhaus Zürich
URL:https://www.opernhaus.ch/spielplan/kalendarium/klanglabor/
SEQUENCE:0
STATUS:CONFIRMED
TRANSP:OPAQUE
END:VEVENT
END:VCALENDAR