BEGIN:VCALENDAR
VERSION:2.0
PRODID:-//Opernhaus//NONSGML//EN
METHOD:PUBLISH
CLASS:PUBLIC
BEGIN:VEVENT
UID:6984869ecabcf0e293
DTSTART:20261114T170000Z
DTEND:20261114T190000Z
DTSTAMP:20261114T170000Z
CREATED:20260425T115559Z
LAST-MODIFIED:20260425T115559Z
SUMMARY:Ein Sommernachtstraum
DESCRIPTION:Ballett von Cathy Marston
LOCATION:Opernhaus Zürich
URL:https://www.opernhaus.ch/spielplan/kalendarium/ein-sommernachtstraum/
SEQUENCE:0
STATUS:CONFIRMED
TRANSP:OPAQUE
END:VEVENT
END:VCALENDAR