BEGIN:VCALENDAR
VERSION:2.0
PRODID:-//Opernhaus//NONSGML//EN
METHOD:PUBLISH
CLASS:PUBLIC
BEGIN:VEVENT
UID:132217569ea814264dd0
DTSTART:20261202T130000Z
DTEND:20261202T150000Z
DTSTAMP:20261202T130000Z
CREATED:20260423T202954Z
LAST-MODIFIED:20260423T202954Z
SUMMARY:Klanglabor
DESCRIPTION:Für Kinder ab 8 Jahren
LOCATION:Opernhaus Zürich
URL:https://www.opernhaus.ch/spielplan/kalendarium/klanglabor/
SEQUENCE:0
STATUS:CONFIRMED
TRANSP:OPAQUE
END:VEVENT
END:VCALENDAR