BEGIN:VCALENDAR
VERSION:2.0
PRODID:-//Opernhaus//NONSGML//EN
METHOD:PUBLISH
CLASS:PUBLIC
BEGIN:VEVENT
UID:155384569e84a9835515
DTSTART:20270225T183000Z
DTEND:20270225T204000Z
DTSTAMP:20270225T183000Z
CREATED:20260422T041208Z
LAST-MODIFIED:20260422T041208Z
SUMMARY:Art Matters
DESCRIPTION:Choreografien von Aleix Martínez und Houston Thomas
LOCATION:Theater Winterthur
URL:https://www.opernhaus.ch/spielplan/kalendarium/juniorballett-1/
SEQUENCE:0
STATUS:CONFIRMED
TRANSP:OPAQUE
END:VEVENT
END:VCALENDAR