BEGIN:VCALENDAR
VERSION:2.0
PRODID:-//Opernhaus//NONSGML//EN
METHOD:PUBLISH
CLASS:PUBLIC
BEGIN:VEVENT
UID:115185369e84a211a2e6
DTSTART:20270302T100000Z
DTEND:20270302T113000Z
DTSTAMP:20270302T100000Z
CREATED:20260422T041009Z
LAST-MODIFIED:20260422T041009Z
SUMMARY:Herr der Diebe
DESCRIPTION:Kinderoper von Marlena Kreßin\, Joanna Lohmann\, Moritz Lieberherr
LOCATION:Opernhaus Zürich
URL:https://www.opernhaus.ch/spielplan/kalendarium/herr-der-diebe/
SEQUENCE:0
STATUS:CONFIRMED
TRANSP:OPAQUE
END:VEVENT
END:VCALENDAR