BEGIN:VCALENDAR
VERSION:2.0
PRODID:-//Opernhaus//NONSGML//EN
METHOD:PUBLISH
CLASS:PUBLIC
BEGIN:VEVENT
UID:191045169e84999dcf99
DTSTART:20270228T101500Z
DTEND:20270228T120000Z
DTSTAMP:20270228T101500Z
CREATED:20260422T040753Z
LAST-MODIFIED:20260422T040753Z
SUMMARY:Matinee «Rinaldo»
LOCATION:Bernhard Theater
URL:https://www.opernhaus.ch/spielplan/kalendarium/matinee-rinaldo/
SEQUENCE:0
STATUS:CONFIRMED
TRANSP:OPAQUE
END:VEVENT
END:VCALENDAR