BEGIN:VCALENDAR
VERSION:2.0
PRODID:-//Opernhaus//NONSGML//EN
METHOD:PUBLISH
CLASS:PUBLIC
BEGIN:VEVENT
UID:66646069e849ecdb1af
DTSTART:20270309T190000Z
DTEND:20270309T213000Z
DTSTAMP:20270309T190000Z
CREATED:20260422T040916Z
LAST-MODIFIED:20260422T040916Z
SUMMARY:Gastspiel Paris «Der Ring des Nibelungen»
LOCATION:Opernhaus Zürich
URL:https://www.opernhaus.ch/spielplan/kalendarium/gastspiel-paris-der-ring-des-nibelungen/
SEQUENCE:0
STATUS:CONFIRMED
TRANSP:OPAQUE
END:VEVENT
END:VCALENDAR