BEGIN:VCALENDAR
VERSION:2.0
PRODID:-//Opernhaus//NONSGML//EN
METHOD:PUBLISH
CLASS:PUBLIC
BEGIN:VEVENT
UID:176703269e9d9b4295b7
DTSTART:20260510T120000Z
DTEND:20260510T141000Z
DTSTAMP:20260510T120000Z
CREATED:20260423T083500Z
LAST-MODIFIED:20260423T083500Z
SUMMARY:La Damnation de Faust
DESCRIPTION:Oper von Hector Berlioz
LOCATION:Opernhaus Zürich
URL:https://www.opernhaus.ch/spielplan/kalendarium/la-damantion-de-faust/
SEQUENCE:0
STATUS:CONFIRMED
TRANSP:OPAQUE
END:VEVENT
END:VCALENDAR