BEGIN:VCALENDAR
VERSION:2.0
PRODID:-//Opernhaus//NONSGML//EN
METHOD:PUBLISH
CLASS:PUBLIC
BEGIN:VEVENT
UID:115807069e7bb5d8c30c
DTSTART:20260514T173000Z
DTEND:20260514T194000Z
DTSTAMP:20260514T173000Z
CREATED:20260421T180101Z
LAST-MODIFIED:20260421T180101Z
SUMMARY:La Damnation de Faust
DESCRIPTION:Oper von Hector Berlioz
LOCATION:Opernhaus Zürich
URL:https://www.opernhaus.ch/spielplan/kalendarium/la-damantion-de-faust/
SEQUENCE:0
STATUS:CONFIRMED
TRANSP:OPAQUE
END:VEVENT
END:VCALENDAR