BEGIN:VCALENDAR
VERSION:2.0
PRODID:-//Opernhaus//NONSGML//EN
METHOD:PUBLISH
CLASS:PUBLIC
BEGIN:VEVENT
UID:141893469e5ff915a20b
DTSTART:20260706T170000Z
DTEND:20260706T190000Z
DTSTAMP:20260706T170000Z
CREATED:20260420T102729Z
LAST-MODIFIED:20260420T102729Z
SUMMARY:Galakonzert des Internationalen Opernstudios
DESCRIPTION:Galakonzert des Internationalen Opernstudios
LOCATION:Opernhaus Zürich
URL:https://www.opernhaus.ch/spielplan/kalendarium/ios-galakonzert/
SEQUENCE:0
STATUS:CONFIRMED
TRANSP:OPAQUE
END:VEVENT
END:VCALENDAR