BEGIN:VCALENDAR
VERSION:2.0
PRODID:-//Opernhaus//NONSGML//EN
METHOD:PUBLISH
CLASS:PUBLIC
BEGIN:VEVENT
UID:86324869e5ff8fd919a
DTSTART:20260704T173000Z
DTEND:20260704T201500Z
DTSTAMP:20260704T173000Z
CREATED:20260420T102727Z
LAST-MODIFIED:20260420T102727Z
SUMMARY:Werther
DESCRIPTION:Oper von Jules Massenet
LOCATION:Opernhaus Zürich
URL:https://www.opernhaus.ch/spielplan/kalendarium/werther/
SEQUENCE:0
STATUS:CONFIRMED
TRANSP:OPAQUE
END:VEVENT
END:VCALENDAR