BEGIN:VCALENDAR
VERSION:2.0
PRODID:-//Opernhaus//NONSGML//EN
METHOD:PUBLISH
CLASS:PUBLIC
BEGIN:VEVENT
UID:11725669e88805537e9
DTSTART:20260705T180000Z
DTEND:20260705T194500Z
DTSTAMP:20260705T180000Z
CREATED:20260422T083413Z
LAST-MODIFIED:20260422T083413Z
SUMMARY:Wie du warst! Wie du bist!
DESCRIPTION:Musiktheater von Simon Steen-Andersen
LOCATION:Bernhard Theater
URL:https://www.opernhaus.ch/spielplan/kalendarium/wie-du-warst-wie-du-bist/
SEQUENCE:0
STATUS:CONFIRMED
TRANSP:OPAQUE
END:VEVENT
END:VCALENDAR